BEGIN:VCALENDAR
VERSION:2.0
PRODID:-//Newbridge Parish - ECPv4.4.2//NONSGML v1.0//EN
CALSCALE:GREGORIAN
METHOD:PUBLISH
X-WR-CALNAME:Newbridge Parish
X-ORIGINAL-URL:http://www.newbridgeparish.ie
X-WR-CALDESC:Events for Newbridge Parish
BEGIN:VEVENT
DTSTART;TZID=Europe/Dublin:20171106T110000
DTEND;TZID=Europe/Dublin:20171106T123000
DTSTAMP:20171105T005543
CREATED:20170915T151802Z
LAST-MODIFIED:20170915T151814Z
UID:14042-1509966000-1509971400@www.newbridgeparish.ie
SUMMARY:Arthritis Ireland –Beginners Seated Exercise Classes
DESCRIPTION:Arthritis Ireland –Beginners Seated Exercise Classes in Newbridge Day Care Centre 11am Sharp Admission €5
URL:http://www.newbridgeparish.ie/event/arthritis-ireland-beginners-seated-exercise-classes/2017-11-06/
CATEGORIES:Fitness and Training
END:VEVENT
BEGIN:VEVENT
DTSTART;TZID=Europe/Dublin:20171106T140000
DTEND;TZID=Europe/Dublin:20171106T170000
DTSTAMP:20171105T005543
CREATED:20170915T145626Z
LAST-MODIFIED:20170915T150911Z
UID:13982-1509976800-1509987600@www.newbridgeparish.ie
SUMMARY:Newbridge Community Men’s Sheds (NCMS)
DESCRIPTION:Newbridge Community Men’s Sheds (NCMS) meet Mondays at 2.00pm in the Meeting Room\, Curates’ House\, Chapel Lane. For information\, Fergus on 086 4091712 or Alan on 086 8244591.
URL:http://www.newbridgeparish.ie/event/newbridge-community-mens-sheds-ncms/2017-11-06/
LOCATION:Chapel lane \, Newbridge\, Ireland
GEO:53.182032;-6.7907246
X-APPLE-STRUCTURED-LOCATION;VALUE=URI;X-ADDRESS=Chapel lane  Newbridge Ireland;X-APPLE-RADIUS=500;X-TITLE=Chapel lane:geo:-6.7907246,53.182032
CATEGORIES:Support Groups
END:VEVENT
BEGIN:VEVENT
DTSTART;TZID=Europe/Dublin:20171106T193000
DTEND;TZID=Europe/Dublin:20171106T203000
DTSTAMP:20171105T005543
CREATED:20170915T152126Z
LAST-MODIFIED:20170915T152135Z
UID:14070-1509996600-1510000200@www.newbridgeparish.ie
SUMMARY:Tai Chi- with Sile McGivern\,
DESCRIPTION:Tai Chi- with Sile McGivern\, I.M.A.C. Coach. Classes in Newbridge Parish Centre starts Mon 25th from 7.30 – 8.30pm. Further details Sile 087 6799380.
URL:http://www.newbridgeparish.ie/event/tai-chi-with-sile-mcgivern/2017-11-06/
LOCATION:Station Road\, Newbridge\, Ireland
GEO:53.1843752;-6.8082918
X-APPLE-STRUCTURED-LOCATION;VALUE=URI;X-ADDRESS=Station Road Newbridge Ireland;X-APPLE-RADIUS=500;X-TITLE=Station Road:geo:-6.8082918,53.1843752
CATEGORIES:Fitness and Training
END:VEVENT
BEGIN:VEVENT
DTSTART;TZID=Europe/Dublin:20171106T200000
DTEND;TZID=Europe/Dublin:20171106T220000
DTSTAMP:20171105T005543
CREATED:20170915T151514Z
LAST-MODIFIED:20170915T151526Z
UID:14012-1509998400-1510005600@www.newbridgeparish.ie
SUMMARY:Legion of Mary Group Meeting
DESCRIPTION:Legion of Mary Group Meeting each Monday at 8pm in the Dominican College. All welcome. For more information on the Legion of Mary see www.LegionofMary.ie 
URL:http://www.newbridgeparish.ie/event/legion-of-mary-group-meeting/2017-11-06/
LOCATION:College Park\, Newbridge\, Ireland
GEO:53.1828824;-6.7984074
X-APPLE-STRUCTURED-LOCATION;VALUE=URI;X-ADDRESS=College Park Newbridge Ireland;X-APPLE-RADIUS=500;X-TITLE=College Park:geo:-6.7984074,53.1828824
CATEGORIES:Prayer and Adoration
END:VEVENT
BEGIN:VEVENT
DTSTART;TZID=Europe/Dublin:20171106T213000
DTEND;TZID=Europe/Dublin:20171106T213000
DTSTAMP:20171105T005543
CREATED:20170915T145239Z
LAST-MODIFIED:20170915T151017Z
UID:13952-1510003800-1510003800@www.newbridgeparish.ie
SUMMARY:Lions Club Charity Dance
DESCRIPTION:Lions Club Charity Dance: from 9.30pm – 12 midnight in Tougher’s Ballroom\, Naas Road\, (Music may change each week). Supporting local projects and causes as well as international disasters. Adm €8. Bank Holidays & special occasions adm €10.
URL:http://www.newbridgeparish.ie/event/lions-club-charity-dance/2017-11-06/
LOCATION:Toughers Ballroom\, Naas Road\, Newbridge. 
CATEGORIES:Dancing
END:VEVENT
BEGIN:VEVENT
DTSTART;TZID=Europe/Dublin:20171107T103000
DTEND;TZID=Europe/Dublin:20171107T113000
DTSTAMP:20171105T005543
CREATED:20170915T164729Z
LAST-MODIFIED:20170915T164740Z
UID:14210-1510050600-1510054200@www.newbridgeparish.ie
SUMMARY:Newbridge Walking Group for People with Arthritis
DESCRIPTION:Newbridge Walking Group for People with Arthritis: meet at Lumville House Car Park at 10.30am sharp for a walk on the Curragh.
URL:http://www.newbridgeparish.ie/event/newbridge-walking-group-for-people-with-arthritis/2017-11-07/
CATEGORIES:Fitness and Training
END:VEVENT
BEGIN:VEVENT
DTSTART;TZID=Europe/Dublin:20171107T193000
DTEND;TZID=Europe/Dublin:20171107T210000
DTSTAMP:20171105T005543
CREATED:20170915T164333Z
LAST-MODIFIED:20170915T164346Z
UID:14150-1510083000-1510088400@www.newbridgeparish.ie
SUMMARY:Grow Mental Health Support:  meets in the Parish Centre from 7.30pm – 9.30pm.
DESCRIPTION:Grow Mental Health Support: meets in the Parish Centre from 7.30pm – 9.30pm.
URL:http://www.newbridgeparish.ie/event/grow-mental-health-support-meets-in-the-parish-centre-from-7-30pm-9-30pm/2017-11-07/
LOCATION:Station Road\, Newbridge\, Ireland
GEO:53.1843752;-6.8082918
X-APPLE-STRUCTURED-LOCATION;VALUE=URI;X-ADDRESS=Station Road Newbridge Ireland;X-APPLE-RADIUS=500;X-TITLE=Station Road:geo:-6.8082918,53.1843752
CATEGORIES:Support Groups
END:VEVENT
BEGIN:VEVENT
DTSTART;TZID=Europe/Dublin:20171107T200000
DTEND;TZID=Europe/Dublin:20171107T213000
DTSTAMP:20171105T005543
CREATED:20170915T164158Z
LAST-MODIFIED:20170915T164216Z
UID:14120-1510084800-1510090200@www.newbridgeparish.ie
SUMMARY:Recovery: meet at 8.00pm in the Dominican College.
DESCRIPTION:Recovery: meet at 8.00pm in the Dominican College. Fearful\, anxious\, depressed\, panic attacks etc. If you are experiencing any of these ‘Recovery’ offers you a way out.
URL:http://www.newbridgeparish.ie/event/recovery-meet-at-8-00pm-in-the-dominican-college/2017-11-07/
LOCATION:College Park\, Newbridge\, Ireland
GEO:53.1828824;-6.7984074
X-APPLE-STRUCTURED-LOCATION;VALUE=URI;X-ADDRESS=College Park Newbridge Ireland;X-APPLE-RADIUS=500;X-TITLE=College Park:geo:-6.7984074,53.1828824
CATEGORIES:Support Groups
END:VEVENT
BEGIN:VEVENT
DTSTART;TZID=Europe/Dublin:20171107T200000
DTEND;TZID=Europe/Dublin:20171107T220000
DTSTAMP:20171105T005543
CREATED:20170915T164541Z
LAST-MODIFIED:20170915T164548Z
UID:14180-1510084800-1510092000@www.newbridgeparish.ie
SUMMARY:Naomh Bríd Ladies Club
DESCRIPTION:Naomh Bríd Ladies Club: meet 8pm – 10pm in the Parish Centre. New members always welcome.
URL:http://www.newbridgeparish.ie/event/naomh-brid-ladies-club/2017-11-07/
LOCATION:Station Road\, Newbridge\, Ireland
GEO:53.1843752;-6.8082918
X-APPLE-STRUCTURED-LOCATION;VALUE=URI;X-ADDRESS=Station Road Newbridge Ireland;X-APPLE-RADIUS=500;X-TITLE=Station Road:geo:-6.8082918,53.1843752
CATEGORIES:Support Groups
END:VEVENT
BEGIN:VEVENT
DTSTART;TZID=Europe/Dublin:20171107T213000
DTEND;TZID=Europe/Dublin:20171107T213000
DTSTAMP:20171105T005543
CREATED:20170915T165049Z
LAST-MODIFIED:20170915T165102Z
UID:14240-1510090200-1510090200@www.newbridgeparish.ie
SUMMARY:Social Dancing every Tuesday Night at Sarsfield’s Clubhouse Newbrid
DESCRIPTION:Social Dancing every Tuesday Night at Sarsfield’s Clubhouse Newbridge in aid of Almas and Sr. Muriel’s home for the poor. Dancing next Tuesday night to “DONE & DUSTED”. Admission €7
URL:http://www.newbridgeparish.ie/event/social-dancing-every-tuesday-night-at-sarsfields-clubhouse-newbrid/2017-11-07/
LOCATION:Hawkfield\, Newbridge\, Ireland
GEO:53.2034054;-6.8301244
X-APPLE-STRUCTURED-LOCATION;VALUE=URI;X-ADDRESS=Hawkfield Newbridge Ireland;X-APPLE-RADIUS=500;X-TITLE=Hawkfield:geo:-6.8301244,53.2034054
CATEGORIES:Dancing
END:VEVENT
END:VCALENDAR